BEGIN:VCALENDAR
VERSION:2.0
PRODID:-//Master Gardener Foundation of Chelan-Douglas Counties - ECPv6.15.20//NONSGML v1.0//EN
CALSCALE:GREGORIAN
METHOD:PUBLISH
X-ORIGINAL-URL:https://chelandouglas.mastergardenerfoundation.org
X-WR-CALDESC:Events for Master Gardener Foundation of Chelan-Douglas Counties
REFRESH-INTERVAL;VALUE=DURATION:PT1H
X-Robots-Tag:noindex
X-PUBLISHED-TTL:PT1H
BEGIN:VTIMEZONE
TZID:America/Los_Angeles
BEGIN:DAYLIGHT
TZOFFSETFROM:-0800
TZOFFSETTO:-0700
TZNAME:PDT
DTSTART:20230312T100000
END:DAYLIGHT
BEGIN:STANDARD
TZOFFSETFROM:-0700
TZOFFSETTO:-0800
TZNAME:PST
DTSTART:20231105T090000
END:STANDARD
BEGIN:DAYLIGHT
TZOFFSETFROM:-0800
TZOFFSETTO:-0700
TZNAME:PDT
DTSTART:20240310T100000
END:DAYLIGHT
BEGIN:STANDARD
TZOFFSETFROM:-0700
TZOFFSETTO:-0800
TZNAME:PST
DTSTART:20241103T090000
END:STANDARD
BEGIN:DAYLIGHT
TZOFFSETFROM:-0800
TZOFFSETTO:-0700
TZNAME:PDT
DTSTART:20250309T100000
END:DAYLIGHT
BEGIN:STANDARD
TZOFFSETFROM:-0700
TZOFFSETTO:-0800
TZNAME:PST
DTSTART:20251102T090000
END:STANDARD
END:VTIMEZONE
BEGIN:VEVENT
DTSTART;TZID=America/Los_Angeles:20241002T183000
DTEND;TZID=America/Los_Angeles:20241002T193000
DTSTAMP:20260423T031233
CREATED:20240703T164018Z
LAST-MODIFIED:20240703T164019Z
UID:10001047-1727893800-1727897400@chelandouglas.mastergardenerfoundation.org
SUMMARY:Garden Class Series
DESCRIPTION:Mark your calendar for these free gardening and food preservation classes presented by WSU Extension Chelan/Douglas County SNAP-Ed Nutrition Program & the Master Gardener Program.
URL:https://chelandouglas.mastergardenerfoundation.org/event/garden-class-series/2024-10-02/
LOCATION:Celebration Lutheran Church Community Garden\, 801 8th Street NE\, East Wenatchee\, WA\, 98801\, United States
CATEGORIES:Educational event,Public
END:VEVENT
BEGIN:VEVENT
DTSTART;TZID=America/Los_Angeles:20241005T130000
DTEND;TZID=America/Los_Angeles:20241005T150000
DTSTAMP:20260423T031233
CREATED:20240417T194632Z
LAST-MODIFIED:20240417T202617Z
UID:10001030-1728133200-1728140400@chelandouglas.mastergardenerfoundation.org
SUMMARY:Master Gardener – Fall Prep to Get Your Garden Ready for Next Spring
DESCRIPTION:Learn proper mulching\, soil conditioning\, and pruning that should take place in the fall. \nDo your small hand tools need a sharpening? For a donation\, we will sharpen them for work in your garden.
URL:https://chelandouglas.mastergardenerfoundation.org/event/master-gardener-fall-prep-to-get-your-garden-ready-for-next-spring/
LOCATION:WSU Extension Chelan/Douglas County  Master Gardener Community Education Garden\, 1100 N Western Ave\, Wenatchee\, Washington\, 98801\, United States
CATEGORIES:Educational event,Public
GEO:47.4372719;-120.3480277
X-APPLE-STRUCTURED-LOCATION;VALUE=URI;X-ADDRESS=WSU Extension Chelan/Douglas County  Master Gardener Community Education Garden 1100 N Western Ave Wenatchee Washington 98801 United States;X-APPLE-RADIUS=500;X-TITLE=1100 N Western Ave:geo:-120.3480277,47.4372719
END:VEVENT
END:VCALENDAR