BEGIN:VCALENDAR
VERSION:2.0
PRODID:-//Master Gardener Foundation of Chelan-Douglas Counties - ECPv6.15.20//NONSGML v1.0//EN
CALSCALE:GREGORIAN
METHOD:PUBLISH
X-WR-CALNAME:Master Gardener Foundation of Chelan-Douglas Counties
X-ORIGINAL-URL:https://chelandouglas.mastergardenerfoundation.org
X-WR-CALDESC:Events for Master Gardener Foundation of Chelan-Douglas Counties
REFRESH-INTERVAL;VALUE=DURATION:PT1H
X-Robots-Tag:noindex
X-PUBLISHED-TTL:PT1H
BEGIN:VTIMEZONE
TZID:America/Los_Angeles
BEGIN:DAYLIGHT
TZOFFSETFROM:-0800
TZOFFSETTO:-0700
TZNAME:PDT
DTSTART:20250309T100000
END:DAYLIGHT
BEGIN:STANDARD
TZOFFSETFROM:-0700
TZOFFSETTO:-0800
TZNAME:PST
DTSTART:20251102T090000
END:STANDARD
BEGIN:DAYLIGHT
TZOFFSETFROM:-0800
TZOFFSETTO:-0700
TZNAME:PDT
DTSTART:20260308T100000
END:DAYLIGHT
BEGIN:STANDARD
TZOFFSETFROM:-0700
TZOFFSETTO:-0800
TZNAME:PST
DTSTART:20261101T090000
END:STANDARD
BEGIN:DAYLIGHT
TZOFFSETFROM:-0800
TZOFFSETTO:-0700
TZNAME:PDT
DTSTART:20270314T100000
END:DAYLIGHT
BEGIN:STANDARD
TZOFFSETFROM:-0700
TZOFFSETTO:-0800
TZNAME:PST
DTSTART:20271107T090000
END:STANDARD
END:VTIMEZONE
BEGIN:VEVENT
DTSTART;TZID=America/Los_Angeles:20260509T100000
DTEND;TZID=America/Los_Angeles:20260509T120000
DTSTAMP:20260422T114654
CREATED:20260420T220726Z
LAST-MODIFIED:20260420T222343Z
UID:10001125-1778320800-1778328000@chelandouglas.mastergardenerfoundation.org
SUMMARY:Hypertufa Pot Workshop
DESCRIPTION:Hypertufa pots are traditionally made from Portland cement\, perlite\, peat moss\, and water; however\, we will be using coconut fiber as a more environmentally friendly alternative.  These pots have been used in Europe for many years\, especially in England. \n\n\n\nLimited to 12 participants
URL:https://chelandouglas.mastergardenerfoundation.org/event/hypertufa-pot-workshop/
LOCATION:WSU Extension Chelan/Douglas County  Master Gardener Community Education Garden\, 1100 N Western Ave\, Wenatchee\, Washington\, 98801\, United States
CATEGORIES:Fundraising,Public
ATTACH;FMTTYPE=image/jpeg:https://chelandouglas.mastergardenerfoundation.org/wp-content/uploads/sites/47/2026/04/hypertufa-rotated.jpeg
GEO:47.4372719;-120.3480277
X-APPLE-STRUCTURED-LOCATION;VALUE=URI;X-ADDRESS=WSU Extension Chelan/Douglas County  Master Gardener Community Education Garden 1100 N Western Ave Wenatchee Washington 98801 United States;X-APPLE-RADIUS=500;X-TITLE=1100 N Western Ave:geo:-120.3480277,47.4372719
END:VEVENT
END:VCALENDAR